BEGIN:VCALENDAR
VERSION:2.0
PRODID:-//ChamberMaster//Event Calendar 2.0//EN
METHOD:PUBLISH
X-PUBLISHED-TTL:P3D
REFRESH-INTERVAL:P3D
CALSCALE:GREGORIAN
BEGIN:VEVENT
DTSTART:20270623T230000Z
DTEND:20270624T000000Z
X-MICROSOFT-CDO-ALLDAYEVENT:FALSE
SUMMARY:All Levels Tactical Yoga
DESCRIPTION:Come in and find your Zen with Yogini Krystal! This is not your average yoga class but everything is at your pace and level and just be prepared to let stuff go and relax!
X-ALT-DESC;FMTTYPE=text/html:Come in and find your Zen with Yogini Krystal! This is not your average yoga class but everything is at your pace and level and just be prepared to let stuff go and relax!
LOCATION:Tactical Yoga - 3975 100th St Urbandale Iowa
UID:e.1185.14515
SEQUENCE:3
DTSTAMP:20260419T211826Z
URL:http://community.uniquelyurbandale.com/events/details/all-levels-tactical-yoga-06-23-2027-14515
END:VEVENT

END:VCALENDAR
