BEGIN:VCALENDAR
VERSION:2.0
PRODID:-//ChamberMaster//Event Calendar 2.0//EN
METHOD:PUBLISH
X-PUBLISHED-TTL:P3D
REFRESH-INTERVAL:P3D
CALSCALE:GREGORIAN
BEGIN:VEVENT
DTSTART:20260218T150000Z
DTEND:20260218T220000Z
X-MICROSOFT-CDO-ALLDAYEVENT:FALSE
SUMMARY:ATW Training Solutions Manager Boot Camp
DESCRIPTION:Many supervisors and managers are given the opportunity to manage others because they did their jobs well. Unfortunately\, what got them the promotion   their technical job skills\, doesn't mean they will succeed as a manager. Being a manager requires a whole new set of skills. In this manager "boot camp"\, individuals will build on the skills they bring to management and learn a new survival kit of essential management skills. This full-day training session provides practical "real life" examples\, scenarios and techniques to enable managers to navigate their landmines. After this session\, participants will be able to: Utilize their personal management style to be more effective. Set clear expectations that others can accomplish. Strategically train others to achieve performance expectations. Coach to reinforce good performance and redirect poor performance. Successfully delegate through use of a 6-step process. Utilize time more effectively to accomplish the requirements of being a manager. Engage those they are managing to achieve individual\, departmental\, and organizational results.
X-ALT-DESC;FMTTYPE=text/html:Many supervisors and managers are given the opportunity to manage others because they did their jobs well. Unfortunately\, what got them the promotion &mdash\; their technical job skills\, doesn&#39\;t mean they will succeed as a manager. Being a manager requires a whole new set of skills. In this manager &quot\;boot camp&quot\;\, individuals will build on the skills they bring to management and learn a new survival kit of essential management skills. This full-day training session provides practical &quot\;real life&quot\; examples\, scenarios and techniques to enable managers to navigate their landmines. After this session\, participants will be able to: Utilize their personal management style to be more effective. Set clear expectations that others can accomplish. Strategically train others to achieve performance expectations. Coach to reinforce good performance and redirect poor performance. Successfully delegate through use of a 6-step process. Utilize time more effectively to accomplish the requirements of being a manager. Engage those they are managing to achieve individual\, departmental\, and organizational results.
LOCATION:ATW Training Solutions (Interstate Batteries Building) 4309 121st Street\, Urbandale\, IA\, 50323
UID:e.1185.17660
SEQUENCE:3
DTSTAMP:20260419T164726Z
URL:http://community.uniquelyurbandale.com/events/details/atw-training-solutions-manager-boot-camp-02-18-2026-17660
END:VEVENT

END:VCALENDAR
