BEGIN:VCALENDAR
VERSION:2.0
PRODID:-//ChamberMaster//Event Calendar 2.0//EN
METHOD:PUBLISH
X-PUBLISHED-TTL:P3D
REFRESH-INTERVAL:P3D
CALSCALE:GREGORIAN
BEGIN:VEVENT
DTSTART:20261021T160000Z
DTEND:20261021T180000Z
X-MICROSOFT-CDO-ALLDAYEVENT:FALSE
SUMMARY:Candidate Forum\, Presented by Matt Shaw with Caliber Realty
DESCRIPTION:The Urbandale Chamber of Commerce is proud to hold a candidate forum every year to allow the community to learn more about the candidates running for public office. The forum is open to the public and free to attend.  Lunch may be purchased for a small fee if desired.\n\n\nPlease submit questions to Tiffany Menke at tmenke@urbandalechamber.com. \n\nWe will ask candidates as many questions as possible.\n\nQuestions must be submitted by Friday\, October 9th at Noon. \n\nThank you to our Sponsors!
X-ALT-DESC;FMTTYPE=text/html:<div>\n<p style="color: rgb(0\, 0\, 0)\; font-family: Verdana\, Arial\, Helvetica\, sans-serif\; font-size: 10px\;"><span style="font-size:14px\;"><span style="font-family:verdana\;">The Urbandale Chamber of Commerce is proud to hold a candidate forum every year to allow the community to learn more about the candidates running for public office.&nbsp\;The forum is open to the public and free to attend.&nbsp\; Lunch may be purchased for a small fee if desired.</span></span></p>\n</div>\n\n<h2><span style="font-size:14px\;"><span style="font-family:verdana\;">Please submit questions to Tiffany Menke at <a href="mailto:tmenke@urbandalechamber.com?subject=Question%20for%20the%20Candidate%20Forum">tmenke@urbandalechamber.com</a>.&nbsp\;<br />\nWe will ask candidates as many questions as possible.<br />\nQuestions must be submitted by <strong>Friday\, October 9th&nbsp\;at Noon.&nbsp\;</strong></span></span></h2>\n\n<h2 style="text-align: center\;"><span style="font-size:14px\;"><span style="font-family:verdana\;"><span style="color:#000000\;">Thank you to our Sponsors!</span></span></span></h2>\n
LOCATION:E.J. Giovannetti Shelter in Walker Johnston Park 9000 Douglas Ave.\, Urbandale\, IA 50322
UID:e.1185.17585
SEQUENCE:3
DTSTAMP:20260420T073049Z
URL:http://community.uniquelyurbandale.com/events/details/candidate-forum-presented-by-matt-shaw-commercial-real-estate-17585
END:VEVENT

END:VCALENDAR
