BEGIN:VCALENDAR
VERSION:2.0
PRODID:-//ChamberMaster//Event Calendar 2.0//EN
METHOD:PUBLISH
X-PUBLISHED-TTL:P3D
REFRESH-INTERVAL:P3D
CALSCALE:GREGORIAN
BEGIN:VEVENT
DTSTART:20260212T220000Z
DTEND:20260212T230000Z
X-MICROSOFT-CDO-ALLDAYEVENT:FALSE
SUMMARY:Central - Beyond Our Boundary\, A New Micro-Event\, Partnering with the West Side Chamber
DESCRIPTION:The Urbandale Chamber of Commerce\, Partnering with the West Side Chamber proudly presents Beyond Our Boundary a dynamic opportunity designed to foster connections.\n\nCome and join us as we connect with businesses centrally located in the metro.\n\n\n\nWhile focused on these zip codes\, this event is open to anyone interested in networking with businesses in these areas! \n\nInstead of coming to us\, we're coming to YOU! \n\nMembership Status?  Doesn't Matter!  \n\nJoin us for this unique micro-event where you can discover new businesses\, learn about thriving neighborhoods\, and forge valuable relationships with peers from across the region. Don't miss this chance to make your business visible beyond the boundary while making meaningful new connections!\n\n\n\nPlease register to attend.  Many of the event locations will have space limitations\, so registration will be limited.  A waiting list will be formed for those who register after we've reached the registration limit.  If you register and cannot make it\, we respectfully request you use the confirmation link to cancel your registration so that someone else can join us!  \n\nHosted by:\n\nTrixies Salon & Spa
X-ALT-DESC;FMTTYPE=text/html:<p><span style="font-size:14px\;"><span style="font-family:verdana\;"><strong>The Urbandale Chamber of Commerce\, Partnering with the West Side Chamber&nbsp\;proudly presents Beyond Our Boundary</strong>&mdash\;a dynamic opportunity designed to foster connections.</span></span></p>\n\n<p><span style="font-size:14px\;"><span style="font-family:verdana\;">Come and join us as we connect with businesses centrally located in the metro.<br />\n<br />\n<em>While focused on these zip codes</em>\,&nbsp\;<b>this event is open to anyone interested in networking with businesses in these areas!</b>&nbsp\;</span></span></p>\n\n<p><span style="font-size:14px\;"><span style="font-family:verdana\;"><strong>Instead of coming to us\, we&rsquo\;re coming to YOU!</strong><span class="apple-converted-space"><b>&nbsp\;</b></span><br />\nMembership Status?&nbsp\; Doesn&#39\;t Matter!&nbsp\;&nbsp\;</span></span></p>\n\n<p data-end="898" data-start="600"><span style="font-size:14px\;"><span style="font-family:verdana\;">Join us for this&nbsp\;<em>unique</em>&nbsp\;micro-event where you can discover new businesses\, learn about thriving neighborhoods\, and forge valuable relationships with peers from across the region. Don&rsquo\;t miss this chance to make your business visible&nbsp\;<strong>beyond the boundary</strong>&nbsp\;while making meaningful new connections!</span></span><br />\n<br />\n<em style="box-sizing: border-box\; margin: 0px\; padding: 0px\; border: 0px\; outline: 0px\; font-size: 14px\; text-size-adjust: 100%\; vertical-align: baseline\; background-image: initial\; background-position: initial\; background-size: initial\; background-repeat: initial\; background-attachment: initial\; background-origin: initial\; background-clip: initial\; color: rgb(68\, 68\, 68)\; font-family: Arial\, Helvetica\, sans-serif\; text-align: center\;"><span style="box-sizing: border-box\; margin: 0px\; padding: 0px\; border: 0px\; outline: 0px\; text-size-adjust: 100%\; vertical-align: baseline\; background: transparent\; font-family: verdana\;"><span style="box-sizing: border-box\; margin: 0px\; padding: 0px\; border: 0px\; outline: 0px\; text-size-adjust: 100%\; vertical-align: baseline\; background: transparent\;"><span style="box-sizing: border-box\; margin: 0px\; padding: 0px\; border: 0px\; outline: 0px\; text-size-adjust: 100%\; vertical-align: baseline\; background: transparent\; font-weight: bolder\;"><u style="box-sizing: border-box\; margin: 0px\; padding: 0px\; border: 0px\; outline: 0px\; font-size: 13px\; text-size-adjust: 100%\; vertical-align: baseline\; background: transparent\;">Please register to attend.</u>&nbsp\;</span>&nbsp\;Many of the event locations will have space limitations\, so registration will be limited.&nbsp\; A waiting list will be formed for those who register after we&#39\;ve reached the registration limit.&nbsp\;&nbsp\;<span style="box-sizing: border-box\; margin: 0px\; padding: 0px\; border: 0px\; outline: 0px\; font-size: 13px\; text-size-adjust: 100%\; vertical-align: baseline\; background: transparent\; font-weight: bolder\;">If you register and cannot make it\, we respectfully request you use the confirmation link to cancel your registration so that someone else can join us!&nbsp\;&nbsp\;</span></span></span></em></p>\n\n<p style="text-align: center\;"><span style="font-family:arial\;"><span style="font-size:16px\;">Hosted by:<br />\nTrixies Salon &amp\; Spa</span></span><br />\n&nbsp\;</p>\n
LOCATION:Trixies Salon & Spa 4118 University Ave. Des Moines\, IA 50311
UID:e.1185.17593
SEQUENCE:3
DTSTAMP:20260419T182246Z
URL:http://community.uniquelyurbandale.com/events/details/central-beyond-our-boundary-a-new-micro-event-partnering-with-the-west-side-chamber-17593
END:VEVENT

END:VCALENDAR
