BEGIN:VCALENDAR
VERSION:2.0
PRODID:-//ChamberMaster//Event Calendar 2.0//EN
METHOD:PUBLISH
X-PUBLISHED-TTL:P3D
REFRESH-INTERVAL:P3D
CALSCALE:GREGORIAN
BEGIN:VEVENT
DTSTART:20250709T223000Z
DTEND:20250709T233000Z
X-MICROSOFT-CDO-ALLDAYEVENT:FALSE
SUMMARY:Departure Meeting | Urbandale Chamber's trip to Scandinavia!
DESCRIPTION:The Urbandale Chamber of Commerce is holding a departure meeting for those traveling with the Chamber on July 23rd for the tour of Scandinavia. \n\n\n\nCome to the event to review the details of the trip and ask any questions you may have.  Join us on July 9th at 5:30 p.m. at the Urbandale Chamber office located at 2830 100th St.\, Ste. 110\, Urbandale! \n\n\n\nPlease register today through this link or by calling 515-331-6855.
X-ALT-DESC;FMTTYPE=text/html:The Urbandale Chamber of Commerce is holding a departure meeting for those traveling with the Chamber on July 23rd for the tour of Scandinavia.&nbsp\;<br />\n<br />\nCome to the event to review the details of the trip and ask any questions you may have.&nbsp\; Join us on July 9th at 5:30 p.m. at the Urbandale Chamber office located at 2830 100th St.\, Ste. 110\, Urbandale!&nbsp\;<br />\n<br />\nPlease register today through this link or by calling 515-331-6855.
LOCATION:Urbandale Chamber of Commerce Aisha R Syed Board Room 2830 100th St.\, Ste. 110 Urbandale\, IA 50322
UID:e.1185.17273
SEQUENCE:3
DTSTAMP:20260425T192749Z
URL:http://community.uniquelyurbandale.com/events/details/departure-meeting-urbandale-chamber-s-trip-to-scandinavia-17273
END:VEVENT

END:VCALENDAR
