BEGIN:VCALENDAR
VERSION:2.0
PRODID:-//ChamberMaster//Event Calendar 2.0//EN
METHOD:PUBLISH
X-PUBLISHED-TTL:P3D
REFRESH-INTERVAL:P3D
CALSCALE:GREGORIAN
BEGIN:VEVENT
DTSTART:20261111T140000Z
DTEND:20261111T153000Z
X-MICROSOFT-CDO-ALLDAYEVENT:FALSE
SUMMARY:genYP Strong Skills Workshop
DESCRIPTION:Build the communication\, teamwork\, and problem-solving skills that help standout professionals thrive. This interactive session on November 11\, 2026 equips young professionals with practical\, real-world tools to boost confidence\, collaborate more effectively\, and navigate workplace challenges with clarity and ease. Designed for early-career talent\, this experience will strengthen professional presence\, enhance day-to-day interactions\, and set participants up for long-term success.
X-ALT-DESC;FMTTYPE=text/html:Build the communication\, teamwork\, and problem-solving skills that help standout professionals thrive. This interactive session on November 11\, 2026&nbsp\;equips young professionals with practical\, real-world tools to boost confidence\, collaborate more effectively\, and navigate workplace challenges with clarity and ease. Designed for early-career talent\, this experience will strengthen professional presence\, enhance day-to-day interactions\, and set participants up for long-term success.
LOCATION:TBD
UID:e.1185.17662
SEQUENCE:3
DTSTAMP:20260419T120846Z
URL:http://community.uniquelyurbandale.com/events/details/genyp-strong-skills-workshop-17662
END:VEVENT

END:VCALENDAR
