BEGIN:VCALENDAR
VERSION:2.0
PRODID:-//ChamberMaster//Event Calendar 2.0//EN
METHOD:PUBLISH
X-PUBLISHED-TTL:P3D
REFRESH-INTERVAL:P3D
CALSCALE:GREGORIAN
BEGIN:VEVENT
DTSTART:20260221T230000Z
DTEND:20260222T040000Z
X-MICROSOFT-CDO-ALLDAYEVENT:FALSE
SUMMARY:Glow Gala
DESCRIPTION:Presented by Sammons Financial Group\, the Glow Gala is Dress for Success Des Moines' annual celebration of women's resilience\, strength\, and potential. Based in Urbandale\, Dress for Success Des Moines provides professional attire\, career support\, and workforce development programming that helps women secure meaningful employment and long-term stability. This inspiring evening raises critical funds to continue that mission in our community. Join us and help women's confidence\, and futures\, shine.
X-ALT-DESC;FMTTYPE=text/html:Presented by Sammons Financial Group\, the Glow Gala is Dress for Success Des Moines&rsquo\; annual celebration of women&rsquo\;s resilience\, strength\, and potential. Based in Urbandale\, Dress for Success Des Moines provides professional attire\, career support\, and workforce development programming that helps women secure meaningful employment and long-term stability. This inspiring evening raises critical funds to continue that mission in our community. Join us and help women&rsquo\;s confidence\, and futures\, shine.
LOCATION:Hilton Downtown Des Moines
UID:e.1185.17476
SEQUENCE:3
DTSTAMP:20260419T164726Z
URL:http://community.uniquelyurbandale.com/events/details/glow-gala-17476
END:VEVENT

END:VCALENDAR
