BEGIN:VCALENDAR
VERSION:2.0
PRODID:-//ChamberMaster//Event Calendar 2.0//EN
METHOD:PUBLISH
X-PUBLISHED-TTL:P3D
REFRESH-INTERVAL:P3D
CALSCALE:GREGORIAN
BEGIN:VEVENT
DTSTART:20251217T233000Z
DTEND:20251218T003000Z
X-MICROSOFT-CDO-ALLDAYEVENT:FALSE
SUMMARY:Informational Session | Rhine River Cruise departing October 2027
DESCRIPTION:Travel with us in October 2027 on a Rhine River Cruise!\n\n\n\nExperience the timeless beauty of Europe on an enchanting river cruise that begins amid Switzerland's stunning landscapes. After a night in Switzerland\, board your elegant AMADEUS vessel in Basel and journey through France\, Germany\, and the Netherlands. Discover charming towns\, historic landmarks\, scenic valleys\, and vibrant cities all with the relaxed ease of river cruising.\n\nTrip Highlights:\n\n  Strasbourg with canal tour\n\n  Romantic Heidelberg & castle ruins\n\n  R desheim with Music Cabinet Museum\n\n  Guided walking tour of Cochem\n\n  Reichsburg Castle\n\n  Cologne walking tour with K lsch tasting\n\nThis 10-day tour includes:\n\n  Airfare departing from Des Moines\, Iowa\n\n  Transportation throughout\n\n  1 night pre-cruise in Switzerland\n\n  7 nights aboard the new Amadeus Aurea\n\n  All meals during the cruise (buffet breakfast\, lunch\, afternoon tea\, dinner)\n\n  All listed excursions\n\nOptional extension available:\n\n  3-Night Amsterdam Post-Tour
X-ALT-DESC;FMTTYPE=text/html:<p data-end="2128" data-start="1746"><span style="font-size:14px\;"><span style="font-family:verdana\;">Travel with us in October 2027 on a Rhine River Cruise!<br />\n<br />\nExperience the timeless beauty of Europe on an enchanting river cruise that begins amid Switzerland&rsquo\;s stunning landscapes. After a night in Switzerland\, board your elegant <strong data-end="1945" data-start="1918">AMADEUS vessel in Basel</strong> and journey through France\, Germany\, and the Netherlands. Discover charming towns\, historic landmarks\, scenic valleys\, and vibrant cities&mdash\;all with the relaxed ease of river cruising.</span></span></p>\n\n<p data-end="2363" data-start="2130"><span style="font-size:14px\;"><span style="font-family:verdana\;"><strong data-end="2150" data-start="2130">Trip Highlights:</strong><br data-end="2153" data-start="2150" />\n&bull\; Strasbourg with canal tour<br data-end="2184" data-start="2181" />\n&bull\; Romantic Heidelberg &amp\; castle ruins<br data-end="2223" data-start="2220" />\n&bull\; R&uuml\;desheim with Music Cabinet Museum<br data-end="2263" data-start="2260" />\n&bull\; Guided walking tour of Cochem<br data-end="2297" data-start="2294" />\n&bull\; Reichsburg Castle<br data-end="2319" data-start="2316" />\n&bull\; Cologne walking tour with K&ouml\;lsch tasting</span></span></p>\n\n<p data-end="2660" data-start="2365"><span style="font-size:14px\;"><span style="font-family:verdana\;">This <strong data-end="2385" data-start="2370">10-day tour</strong> includes:<br data-end="2398" data-start="2395" />\n&bull\; Airfare departing from Des Moines\, Iowa<br data-end="2442" data-start="2439" />\n&bull\; Transportation throughout<br data-end="2472" data-start="2469" />\n&bull\; 1 night pre-cruise in Switzerland<br data-end="2510" data-start="2507" />\n&bull\; 7 nights aboard the <em data-end="2537" data-start="2532">new</em> Amadeus Aurea<br data-end="2554" data-start="2551" />\n&bull\; All meals during the cruise (buffet breakfast\, lunch\, afternoon tea\, dinner)<br data-end="2635" data-start="2632" />\n&bull\; All listed excursions</span></span></p>\n\n<p data-end="2727" data-start="2662"><span style="font-size:14px\;"><span style="font-family:verdana\;">Optional extension available:<br data-end="2694" data-start="2691" />\n&bull\; <strong data-end="2727" data-start="2696">3-Night Amsterdam Post-Tour</strong></span></span></p>\n
LOCATION:Virtual Only - A link will be sent to you in your registration confirmation.
UID:e.1185.17550
SEQUENCE:3
DTSTAMP:20260419T184922Z
URL:http://community.uniquelyurbandale.com/events/details/informational-session-rhine-river-cruise-departing-october-2027-17550
END:VEVENT

END:VCALENDAR
