BEGIN:VCALENDAR
VERSION:2.0
PRODID:-//ChamberMaster//Event Calendar 2.0//EN
METHOD:PUBLISH
X-PUBLISHED-TTL:P3D
REFRESH-INTERVAL:P3D
CALSCALE:GREGORIAN
BEGIN:VEVENT
DTSTART:20251202T233000Z
DTEND:20251203T003000Z
X-MICROSOFT-CDO-ALLDAYEVENT:FALSE
SUMMARY:Informational Session | Travel to Iceland 2026
DESCRIPTION:The Urbandale Chamber is traveling to Iceland in November\, 2026 departing on the 11th and you are invited!\n\n\n\nCome experience the land of Fire & Ice!  The Urbandale Chamber will depart this journey from Minneapolis.  The trip includes motorcoach transportation to the Minneapolis airport (if desired)\, air from MSP\, hotel accommodations\, breakfast each day\, tours of Reykjavik City including a Northern Lights excursion\, Sky Lagoon Experience\, Golden Circle Tour\, South Shore Adventure\, Geysir geothermal area\, Skogar Folk Museum\, guide and more!
X-ALT-DESC;FMTTYPE=text/html:<span style="font-size:14px\;"><span style="font-family:verdana\;">The Urbandale Chamber is traveling to Iceland in November\, 2026 departing on the 11th and you are invited!<br />\n<br />\nCome experience the land of Fire &amp\; Ice!&nbsp\; The Urbandale Chamber will depart this journey from Minneapolis.&nbsp\; The trip includes motorcoach transportation to the Minneapolis airport (if desired)\, air from MSP\, hotel accommodations\, breakfast each day\, tours of Reykjavik City including a Northern Lights excursion\, Sky Lagoon Experience\, Golden Circle Tour\, South Shore Adventure\, Geysir geothermal area\, Skogar Folk Museum\, guide and more!&nbsp\; &nbsp\;</span></span>
LOCATION:Urbandale Chamber of Commerce Aisha R. Syed Board Room Realtor | Iowa Realty 2830 100th St.\, Ste. 110 Urbandale\, IA 50322 OR Virtually
UID:e.1185.17326
SEQUENCE:3
DTSTAMP:20260419T184842Z
URL:http://community.uniquelyurbandale.com/events/details/informational-session-travel-to-iceland-2026-17326
END:VEVENT

END:VCALENDAR
