BEGIN:VCALENDAR
VERSION:2.0
PRODID:-//ChamberMaster//Event Calendar 2.0//EN
METHOD:PUBLISH
X-PUBLISHED-TTL:P3D
REFRESH-INTERVAL:P3D
CALSCALE:GREGORIAN
BEGIN:VEVENT
DTSTART:20251203T213000Z
DTEND:20251204T000000Z
X-MICROSOFT-CDO-ALLDAYEVENT:FALSE
SUMMARY:Ribbon Cutting Event for RockWay Wealth Partners
DESCRIPTION:Join the Urbandale Chamber in celebrating RockWay Wealth Partners' 10 Year Anniversary Celebration Ribbon Cutting.
X-ALT-DESC;FMTTYPE=text/html:<strong style="color: rgb(75\, 0\, 130)\;"><span style="font-size: 20px\;">Join the Urbandale Chamber in celebrating RockWay Wealth Partners&#39\; 10 Year Anniversary Celebration Ribbon Cutting.</span></strong><br />\n&nbsp\;
LOCATION:Hosted at: Glen Oaks Country Club 1401 Glen Oaks Dr. West Des Moines\, IA 50266
UID:e.1185.17428
SEQUENCE:3
DTSTAMP:20260419T184817Z
URL:http://community.uniquelyurbandale.com/events/details/ribbon-cutting-event-for-rockway-wealth-partners-17428
END:VEVENT

END:VCALENDAR
