BEGIN:VCALENDAR
VERSION:2.0
PRODID:-//ChamberMaster//Event Calendar 2.0//EN
METHOD:PUBLISH
X-PUBLISHED-TTL:P3D
REFRESH-INTERVAL:P3D
CALSCALE:GREGORIAN
BEGIN:VEVENT
DTSTART:20260130T220000Z
DTEND:20260131T000000Z
X-MICROSOFT-CDO-ALLDAYEVENT:FALSE
SUMMARY:Ribbon Cutting Event for SP Salon
DESCRIPTION:Join the Windsor Heights Chamber in celebrating SP Salon's Grand Opening Ribbon Cutting.
X-ALT-DESC;FMTTYPE=text/html:<strong style="color: rgb(75\, 0\, 130)\;"><span style="font-size: 20px\;">Join the Windsor Heights Chamber in celebrating SP Salon&#39\;s Grand Opening Ribbon Cutting.</span></strong><br />\n<br />\n<br />\n<br />\n<br />\n<br />\n&nbsp\;
LOCATION:SP Salon 1239 73rd St.\, Unit I Windsor Heights\, IA 50324
UID:e.1185.17576
SEQUENCE:3
DTSTAMP:20260419T184722Z
URL:http://community.uniquelyurbandale.com/events/details/ribbon-cutting-event-for-sp-salon-17576
END:VEVENT

END:VCALENDAR
