BEGIN:VCALENDAR
VERSION:2.0
PRODID:-//ChamberMaster//Event Calendar 2.0//EN
METHOD:PUBLISH
X-PUBLISHED-TTL:P3D
REFRESH-INTERVAL:P3D
CALSCALE:GREGORIAN
BEGIN:VEVENT
DTSTART:20250607T160000Z
DTEND:20250607T220000Z
X-MICROSOFT-CDO-ALLDAYEVENT:FALSE
SUMMARY:Sizzlin' Summer Sale
DESCRIPTION:You're invited to our One-Day Only 50% Off Sizzlin' Summer Sale\, featuring everything in the store.
X-ALT-DESC;FMTTYPE=text/html:You&#39\;re invited to our One-Day Only 50% Off Sizzlin&rsquo\; Summer Sale\, featuring everything in the store.
LOCATION:Valley West Mall STE 203
UID:e.1185.17246
SEQUENCE:3
DTSTAMP:20260421T082438Z
URL:http://community.uniquelyurbandale.com/events/details/sizzlin-summer-sale-17246
END:VEVENT

END:VCALENDAR
