BEGIN:VCALENDAR
VERSION:2.0
PRODID:-//ChamberMaster//Event Calendar 2.0//EN
METHOD:PUBLISH
X-PUBLISHED-TTL:P3D
REFRESH-INTERVAL:P3D
CALSCALE:GREGORIAN
BEGIN:VEVENT
DTSTART:20251120T130000Z
DTEND:20251120T140000Z
X-MICROSOFT-CDO-ALLDAYEVENT:FALSE
SUMMARY:Spartan HIIT Class
DESCRIPTION:Come get SPARTAN TOUGH with the ONLY certified Spartan Coach in the entire state! Learn what it takes to crush your first Spartan Race! This isn't your average HIIT class\, this is all about GRIT with exercises based around Spartan race training
X-ALT-DESC;FMTTYPE=text/html:Come get SPARTAN TOUGH with the ONLY certified Spartan Coach in the entire state! Learn what it takes to crush your first Spartan Race! This isn&#39\;t your average HIIT class\, this is all about GRIT with exercises based around Spartan race training
LOCATION:Tactical Fitness
UID:e.1185.14631
SEQUENCE:3
DTSTAMP:20260419T232312Z
URL:http://community.uniquelyurbandale.com/events/details/spartan-hiit-class-11-20-2025-14631
END:VEVENT

END:VCALENDAR
