BEGIN:VCALENDAR
VERSION:2.0
PRODID:-//ChamberMaster//Event Calendar 2.0//EN
METHOD:PUBLISH
X-PUBLISHED-TTL:P3D
REFRESH-INTERVAL:P3D
CALSCALE:GREGORIAN
BEGIN:VEVENT
DTSTART:20260223T220000Z
DTEND:20260223T230000Z
X-MICROSOFT-CDO-ALLDAYEVENT:FALSE
SUMMARY:TRC Rally | Cat\, Smelly Cat…It’s Time to Chat
DESCRIPTION:Smelly Cat  Smelly Cat  what are they feeding you? \n\nAttention TRC volunteers! It's time to rally! Don't worry\, unlike Phoebe's song\, our rallies smell amazing!\n\nWhile these gatherings aren't required\, they're full of laughs\, team spirit\, and just the right amount of quirky fun (kind of like hanging out at Central Perk).\n\nThe TRC rally is the perfect place to:\n\n\n	\n	Get your questions answered\n	\n	\n	Reconnect with your team\n	\n	\n	Receive your weekly incentives\n	\n	\n	Pick up fabulous prizes\n	\n	\n	And enjoy some extra surprises!\n	\n\n\nThis week's snack spotlight: a "Purr-fect" Nacho Bar from Hidalgo!\n\nFood and beverages are provided\, so reservations are a must. Please let us know about any food allergies when registering   we promise not to pull a Joey and eat your snack!
X-ALT-DESC;FMTTYPE=text/html:<p data-end="362" data-start="157"><span style="font-size:14px\;"><span style="font-family:verdana\;"><strong data-end="217" data-start="157">&#127926\; Smelly Cat&hellip\; Smelly Cat&hellip\; what are they feeding you?&nbsp\;</strong><br data-end="220" data-start="217" />\nAttention TRC volunteers! It&rsquo\;s time to rally! Don&rsquo\;t worry\, unlike Phoebe&rsquo\;s song\, our rallies smell <em data-end="359" data-start="350">amazing</em>!</span></span></p>\n\n<p data-end="526" data-start="364"><span style="font-size:14px\;"><span style="font-family:verdana\;">While these gatherings aren&rsquo\;t required\, they&rsquo\;re full of laughs\, team spirit\, and just the right amount of quirky fun (kind of like hanging out at Central Perk).</span></span></p>\n\n<p data-end="568" data-start="528"><span style="font-size:14px\;"><span style="font-family:verdana\;">The TRC rally is the perfect place to:</span></span></p>\n\n<ul data-end="728" data-start="569">\n	<li data-end="600" data-start="569">\n	<p data-end="600" data-start="571"><span style="font-size:14px\;"><span style="font-family:verdana\;">Get your questions answered</span></span></p>\n	</li>\n	<li data-end="629" data-start="601">\n	<p data-end="629" data-start="603"><span style="font-size:14px\;"><span style="font-family:verdana\;">Reconnect with your team</span></span></p>\n	</li>\n	<li data-end="664" data-start="630">\n	<p data-end="664" data-start="632"><span style="font-size:14px\;"><span style="font-family:verdana\;">Receive your weekly incentives</span></span></p>\n	</li>\n	<li data-end="692" data-start="665">\n	<p data-end="692" data-start="667"><span style="font-size:14px\;"><span style="font-family:verdana\;">Pick up fabulous prizes</span></span></p>\n	</li>\n	<li data-end="728" data-start="693">\n	<p data-end="728" data-start="695"><span style="font-size:14px\;"><span style="font-family:verdana\;">And enjoy some extra surprises!</span></span></p>\n	</li>\n</ul>\n\n<p data-end="971" data-start="730"><span style="font-size:14px\;"><span style="font-family:verdana\;">This week&rsquo\;s snack spotlight: <strong data-end="788" data-start="759">a &ldquo\;Purr-fect&rdquo\; Nacho Bar from Hidalgo!</strong><br data-end="796" data-start="793" />\nFood and beverages are provided\, so reservations are a must. Please let us know about any food allergies when registering &mdash\; we promise not to pull a Joey and eat your snack!</span></span></p>\n
LOCATION:Urbandale Chamber of Commerce Aisha R. Syed Board Room REALTOR | Iowa Realty 2830 100th St.\, Suite 110\,Urbandale\, IA 50322
UID:e.1185.17364
SEQUENCE:3
DTSTAMP:20260419T182635Z
URL:http://community.uniquelyurbandale.com/events/details/trc-rally-cat-smelly-cat-it-s-time-to-chat-17364
END:VEVENT

END:VCALENDAR
