BEGIN:VCALENDAR
VERSION:2.0
PRODID:-//ChamberMaster//Event Calendar 2.0//EN
METHOD:PUBLISH
X-PUBLISHED-TTL:P3D
REFRESH-INTERVAL:P3D
CALSCALE:GREGORIAN
BEGIN:VEVENT
DTSTART:20260202T180000Z
DTEND:20260202T190000Z
X-MICROSOFT-CDO-ALLDAYEVENT:FALSE
SUMMARY:TRC Rally | Oh. My. GAWD...Let's Rally (Janice Voice)
DESCRIPTION:Oh. My. GAWD  TRC Volunteers!\n\nIt's time to rally for the 2026 TRC Campaign! These rallies aren't required\, but ohhhhhh you are gonna want to be there   they are so much fun and strongly encouraged!\n\nThis is your chance to get all your questions answered\, reconnect with your team\, snag your weekly incentives\, grab some fabulous prizes\, and more! You do not want to miss this.\n\nFood and beverages are provided (yum!)\, so make sure to reserve your spot!\n\nThe rally is being catered by Hungry Boyz so come hungry....and let me tell you  it's gonna be de-lish!
X-ALT-DESC;FMTTYPE=text/html:<p data-end="124" data-start="89"><span style="font-size:14px\;"><span style="font-family:verdana\;"><strong data-end="122" data-start="89">Oh. My. GAWD&hellip\; TRC Volunteers!</strong></span></span></p>\n\n<p data-end="307" data-start="126"><span style="font-size:14px\;"><span style="font-family:verdana\;">It&rsquo\;s time to <strong data-end="148" data-start="139">rally</strong> for the 2026 TRC Campaign! These rallies aren&rsquo\;t required\, but <em data-end="220" data-start="211">ohhhhhh</em> you are gonna want to be there &mdash\; they are <strong data-end="278" data-start="263">so much fun</strong> and <em data-end="305" data-start="283">strongly encouraged!</em></span></span></p>\n\n<p data-end="490" data-start="309"><span style="font-size:14px\;"><span style="font-family:verdana\;">This is your chance to get all your questions answered\, reconnect with your team\, snag your weekly incentives\, grab some fabulous prizes\, and more! You <em data-end="469" data-start="461">do not</em> want to miss this.</span></span></p>\n\n<p data-end="572" data-start="492"><span style="font-size:14px\;"><span style="font-family:verdana\;">Food and beverages are provided (yum!)\, so make sure to <strong data-end="569" data-start="548">reserve your spot</strong>!</span></span></p>\n\n<p data-end="657" data-start="574"><span style="font-size:14px\;"><span style="font-family:verdana\;">The rally is being catered by Hungry Boyz so come hungry....and let me tell you&hellip\; it&rsquo\;s gonna be <strong data-end="655" data-start="643">de-lish!</strong></span></span></p>\n
LOCATION:Aisha R. Syed Board Room Realtor | Iowa Realty Urbandale Chamber of Commerce 2830 100th St.\, Ste. 110\, Urbandale
UID:e.1185.17361
SEQUENCE:3
DTSTAMP:20260419T165334Z
URL:http://community.uniquelyurbandale.com/events/details/trc-rally-oh-my-gawd-let-s-rally-janice-voice-17361
END:VEVENT

END:VCALENDAR
