BEGIN:VCALENDAR
VERSION:2.0
PRODID:-//ChamberMaster//Event Calendar 2.0//EN
METHOD:PUBLISH
X-PUBLISHED-TTL:P3D
REFRESH-INTERVAL:P3D
CALSCALE:GREGORIAN
BEGIN:VEVENT
DTSTART:20260216T140000Z
DTEND:20260216T150000Z
X-MICROSOFT-CDO-ALLDAYEVENT:FALSE
SUMMARY:TRC Rally | Perk Up for Success
DESCRIPTION:It's time to channel your inner Monica\, Chandler\, Rachel\, Ross\, Joey\, and Phoebe because the 2026 TRC Campaign is approaching 1/2 way through\, and we're rallying like it's a day at Central Perk!\n\n\n\nThese rallies aren't required\, but they're packed with perks\, laughs\, and that warm\, fuzzy team spirit so we strongly encourage you to join in!\n\n\n\nHere's what's brewing at this week's rally:\n\n\n	Catch up with your TRC crew \n	Grab your weekly incentives and prizes\n	Get answers to your campaign questions\n	Enjoy delicious food and drinks (RSVP required!)\n	This week's catering is from Coaches Kolaches.  If you haven't had one\, you have been missing out!  \n\n\n\n\nPlease let us know about any food allergies when registering.\n\n\n\nLet's make this rally the one with all the success because when friends come together\, amazing things happen.
X-ALT-DESC;FMTTYPE=text/html:<p 2="" 2026="" a="" and="" background-color:="" because="" central="" channel="" day="" font-size:="" helvetica="" inner="" is="" like="" p="" rallying="" re="" s="" segoe="" span="" style="margin: 8px 0px 4px\; overflow-wrap: break-word\; color: rgb(66\, 66\, 66)\; font-family: " time="" to="" trc="" ui="" way="" web="" west="" your=""><span style="font-size:14px\;"><span style="font-family:verdana\;">It&rsquo\;s time to channel your inner Monica\, Chandler\, Rachel\, Ross\, Joey\, and Phoebe&mdash\;because the 2026 TRC Campaign is approaching 1/2 way through\, and we&rsquo\;re rallying like it&rsquo\;s a day at Central Perk!<br />\n<br />\nThese rallies aren&rsquo\;t required\, but they&rsquo\;re packed with perks\, laughs\, and that warm\, fuzzy team spirit&mdash\;so we strongly encourage you to join in!<br />\n<br />\n<strong>Here&rsquo\;s what&rsquo\;s brewing at this week&rsquo\;s rally:</strong></span></span></p>\n\n<ul>\n	<li 2="" 2026="" a="" and="" background-color:="" because="" central="" channel="" day="" font-size:="" helvetica="" inner="" is="" like="" p="" rallying="" re="" s="" segoe="" span="" style="margin: 8px 0px 4px\; overflow-wrap: break-word\; color: rgb(66\, 66\, 66)\;" time="" to="" trc="" ui="" way="" web="" west="" your=""><span style="font-size:14px\;"><span style="font-family:verdana\;">Catch up with your TRC crew&nbsp\;</span></span></li>\n	<li 2="" 2026="" a="" and="" background-color:="" because="" central="" channel="" day="" font-size:="" helvetica="" inner="" is="" like="" p="" rallying="" re="" s="" segoe="" span="" style="margin: 8px 0px 4px\; overflow-wrap: break-word\; color: rgb(66\, 66\, 66)\;" time="" to="" trc="" ui="" way="" web="" west="" your=""><span style="font-size:14px\;"><span style="font-family:verdana\;">Grab your weekly incentives and prizes</span></span></li>\n	<li 2="" 2026="" a="" and="" background-color:="" because="" central="" channel="" day="" font-size:="" helvetica="" inner="" is="" like="" p="" rallying="" re="" s="" segoe="" span="" style="margin: 8px 0px 4px\; overflow-wrap: break-word\; color: rgb(66\, 66\, 66)\;" time="" to="" trc="" ui="" way="" web="" west="" your=""><span style="font-size:14px\;"><span style="font-family:verdana\;">Get answers to your campaign questions</span></span></li>\n	<li 2="" 2026="" a="" and="" background-color:="" because="" central="" channel="" day="" font-size:="" helvetica="" inner="" is="" like="" p="" rallying="" re="" s="" segoe="" span="" style="margin: 8px 0px 4px\; overflow-wrap: break-word\; color: rgb(66\, 66\, 66)\;" time="" to="" trc="" ui="" way="" web="" west="" your=""><span style="font-size:14px\;"><span style="font-family:verdana\;">Enjoy delicious food and drinks (RSVP required!)</span></span></li>\n	<li 2="" 2026="" a="" and="" background-color:="" because="" central="" channel="" day="" font-size:="" helvetica="" inner="" is="" like="" p="" rallying="" re="" s="" segoe="" span="" style="margin: 8px 0px 4px\; overflow-wrap: break-word\; color: rgb(66\, 66\, 66)\;" time="" to="" trc="" ui="" way="" web="" west="" your=""><span style="font-size:14px\;"><span style="font-family:verdana\;">This week&rsquo\;s catering is from <a href="http://businesses.uniquelyurbandale.com/list/member/coaches-kolaches-6679">C</a><a href="https://businesses.uniquelyurbandale.com/list/member/coaches-kolaches-6679">oaches Kolaches</a>.&nbsp\; If you haven&#39\;t had one\, you have been missing out!&nbsp\;&nbsp\;</span></span></li>\n</ul>\n\n<p 2="" 2026="" a="" and="" background-color:="" because="" central="" channel="" day="" font-size:="" helvetica="" inner="" is="" like="" p="" rallying="" re="" s="" segoe="" span="" style="margin: 8px 0px 4px\; overflow-wrap: break-word\; color: rgb(66\, 66\, 66)\; font-family: " time="" to="" trc="" ui="" way="" web="" west="" your=""><br />\n<span style="font-size:14px\;"><span style="font-family:verdana\;">Please let us know about any food allergies when registering.<br />\n<br />\nLet&rsquo\;s make this rally the one with all the success&mdash\;because when friends come together\, amazing things happen.</span></span></p>\n
LOCATION:Urbandale Chamber of Commerce Aisha R. Syed Board Room REALTOR | Iowa Realty 2830 100th St.\, Suite 110\,Urbandale\, IA 50322
UID:e.1185.17363
SEQUENCE:3
DTSTAMP:20260419T182246Z
URL:http://community.uniquelyurbandale.com/events/details/trc-rally-perk-up-for-success-17363
END:VEVENT

END:VCALENDAR
